BEGIN:VCALENDAR
VERSION:2.0
PRODID:-//Lake Almanor Country Club - ECPv6.15.20//NONSGML v1.0//EN
CALSCALE:GREGORIAN
METHOD:PUBLISH
X-WR-CALNAME:Lake Almanor Country Club
X-ORIGINAL-URL:https://lakealmanorcountryclub.com
X-WR-CALDESC:Events for Lake Almanor Country Club
REFRESH-INTERVAL;VALUE=DURATION:PT1H
X-Robots-Tag:noindex
X-PUBLISHED-TTL:PT1H
BEGIN:VTIMEZONE
TZID:UTC
BEGIN:STANDARD
TZOFFSETFROM:+0000
TZOFFSETTO:+0000
TZNAME:UTC
DTSTART:20250101T000000
END:STANDARD
END:VTIMEZONE
BEGIN:VEVENT
DTSTART;TZID=UTC:20260507T170000
DTEND;TZID=UTC:20260507T190000
DTSTAMP:20260422T223710
CREATED:20260421T173128Z
LAST-MODIFIED:20260422T214632Z
UID:3648-1778173200-1778180400@lakealmanorcountryclub.com
SUMMARY:Music on the Patio: The Sun Followers
DESCRIPTION:Lake Almanor Country Club presents a Music on the Patio event\, featuring: The Sun Followers.  \n\n\n\nCome enjoy delicious food and live music Thursday\, May 7th @ 5 pm – 7 pm on the clubhouse patio.  \n\n\n\nBlue Ox Peninsula Grill at Lake Almanor Country Club: \n\n\n\nHours of Operation: 7 am – 8 pm  \n\n\n\nReservation recommended\, please call: 530–259-2026
URL:https://lakealmanorcountryclub.com/event/music-on-the-patio-the-sun-followers-2/
LOCATION:LACC Clubhouse\, 951 Clifford Drive\, Lake Almanor\, 96137
CATEGORIES:Clubhouse Entertainment
ATTACH;FMTTYPE=image/jpeg:https://lakealmanorcountryclub.com/wp-content/uploads/sites/2434/2026/04/Sun-Followers-Flyer-5.2026.jpg
END:VEVENT
BEGIN:VEVENT
DTSTART;TZID=UTC:20260510T090000
DTEND;TZID=UTC:20260510T140000
DTSTAMP:20260422T223710
CREATED:20260421T204319Z
LAST-MODIFIED:20260421T204321Z
UID:3656-1778403600-1778421600@lakealmanorcountryclub.com
SUMMARY:Mother's Day Brunch (with Music on the Patio)
DESCRIPTION:Lake Almanor Country Club presents Mother’s Day Brunch @ Blue Ox Peninsula Grill at The Lake Almanor Country Club  \n\n\n\nCome join us to celebrate Mom with a delicious brunch menu\, live music and beautiful golf course views.  \n\n\n\n\n\nBrunch Menu: 9 am – 2 pm  \n\n\n\nLive music featuring Michael Russell: 11:30 am – 1:30 pm.  \n\n\n\nReservations are recommended\, please call: (530) 259-2026 \n\n\n\nRegular hours of operation resume 2 pm – 8 pm
URL:https://lakealmanorcountryclub.com/event/mothers-day-brunch-with-music-on-the-patio/
LOCATION:Blue Ox Peninsula Grill @ Lake Almanor Country Club\, 951 Clifford Drive\, Lake Almanor\, 96137
ATTACH;FMTTYPE=image/jpeg:https://lakealmanorcountryclub.com/wp-content/uploads/sites/2434/2026/04/mothers-day-brunch-5.2026-1.jpg
END:VEVENT
BEGIN:VEVENT
DTSTART;TZID=UTC:20260515T170000
DTEND;TZID=UTC:20260515T190000
DTSTAMP:20260422T223710
CREATED:20260421T232511Z
LAST-MODIFIED:20260421T232512Z
UID:3659-1778864400-1778871600@lakealmanorcountryclub.com
SUMMARY:Music on the Patio: Karaoke with Lenore
DESCRIPTION:Lake Almanor Country Club presents Karaoke with Lenore\, a Music on the Patio event.  \n\n\n\nJoin us for a fun-filled Karaoke night with Lenore at the LACC Clubhouse\, featuring delicious food from Blue Ox Peninsula Grill and refreshing drinks from Sugar Pine Lounge. \n\n\n\nFriday May 15th || 5:00pm – 7:00pm @ LACC Clubhouse
URL:https://lakealmanorcountryclub.com/event/music-on-the-patio-karaoke-with-lenore/
LOCATION:LACC CLUBHOUSE\, 951 Clifford Drive\, Lake Almanor\, California\, 96137
ATTACH;FMTTYPE=image/jpeg:https://lakealmanorcountryclub.com/wp-content/uploads/sites/2434/2026/04/Karoke-5.15.jpg
END:VEVENT
BEGIN:VEVENT
DTSTART;TZID=UTC:20260521T170000
DTEND;TZID=UTC:20260521T190000
DTSTAMP:20260422T223710
CREATED:20260422T204602Z
LAST-MODIFIED:20260422T221148Z
UID:3672-1779382800-1779390000@lakealmanorcountryclub.com
SUMMARY:Music on the Patio: Feather River Revival
DESCRIPTION:Lake Almanor Country Club presents a Music on the Patio event\, featuring: Feather River Revival  \n\n\n\n Enjoy the beautiful lakeside setting\, great company\, and an evening of live entertainment. \n\n\n\n🎶 Live Music by Feather River Revival📅 Thursday\, May 21st⏰ 5:00 PM – 7:00 PM📍 LACC Clubhouse Patio \n\n\n\nEnjoy a delicious dinner from the Blue Ox Peninsula Grill and refreshing beverages from the Sugar Pine Lounge while listening to Feather River Revival preform live.  \n\n\n\n📞 Reservations recommended please call: (530) 259-2026 \n\n\n\nHours of Operation:  \n\n\n\nBlue Ox Grill @ LACC:  \n\n\n\nOpen: 7 am – 8 pm  \n\n\n\nSugar Pine Lounge:  \n\n\n\nOpen: 11 am – 8 pm
URL:https://lakealmanorcountryclub.com/event/music-on-the-patio-feather-river-revival-10/
LOCATION:LACC Clubhouse\, 951 Clifford Drive\, Lake Almanor\, California\, 96137
ATTACH;FMTTYPE=image/jpeg:https://lakealmanorcountryclub.com/wp-content/uploads/sites/2434/2026/04/MOP-FRR-5.21.26.jpg
END:VEVENT
BEGIN:VEVENT
DTSTART;TZID=UTC:20260522T170000
DTEND;TZID=UTC:20260522T190000
DTSTAMP:20260422T223710
CREATED:20260422T192631Z
LAST-MODIFIED:20260422T192633Z
UID:3669-1779469200-1779476400@lakealmanorcountryclub.com
SUMMARY:Music on the Patio: Michael Russell
DESCRIPTION:Lake Almanor County Club presents a Music on the Patio event featuring live music by: Michael Russell  \n\n\n\nEnjoy a relaxed outdoor setting with beautiful lake views\, great company\, and live entertainment. \n\n\n\n🎶 Live Music by Michael Russell📅 Friday\, May 22nd⏰ 5:00 PM – 7:00 PM📍 LACC Clubhouse Patio \n\n\n\nDinning menu available at the Blue Ox Grill at LACC  \n\n\n\nHours of operation: 7 am – 8 pm  \n\n\n\nBeverages including beer\, wine and other beverages available at Sugar Pine Lounge.  \n\n\n\nHours of Operation: 11 am – 9 pm \n\n\n\n📞 Reservations recommended please call: (530) 259-2026
URL:https://lakealmanorcountryclub.com/event/music-on-the-patio-michael-russell/
LOCATION:LACC Clubhouse\, 951 Clifford Drive\, Lake Almanor\, California\, 96137
ATTACH;FMTTYPE=image/jpeg:https://lakealmanorcountryclub.com/wp-content/uploads/sites/2434/2026/04/Michael-Russel-MOP-5.22.26.jpg
END:VEVENT
BEGIN:VEVENT
DTSTART;TZID=UTC:20260523T120000
DTEND;TZID=UTC:20260523T150000
DTSTAMP:20260422T223710
CREATED:20260421T234608Z
LAST-MODIFIED:20260422T162640Z
UID:3663-1779537600-1779548400@lakealmanorcountryclub.com
SUMMARY:Back to the Lake Bash @ LACC
DESCRIPTION:Kick off the summer right at Lake Almanor Country Club with great food\, awesome music and fun in the sun.  \n\n\n\nCelebrate returning to the lake by enjoying a fun filled day with live music and a special lunch menu brought to you by Blue Ox Peninsula Grill at The Lake Almanor Country Club! \n\n\n\n Friday May 23rd @ LACC Clubhouse  \n\n\n\nSpecial Lunch Menu: 12 pm – 2 pm  \n\n\n\nMusic on the Patio: 1 pm – 3 pm  \n\n\n\nLive music featuring Jeff Benedictson – The Singing Dentist.  \n\n\n\nReservations recommended\, please call: (530) 259-2026
URL:https://lakealmanorcountryclub.com/event/back-to-the-lake-bash-lacc/
LOCATION:Blue Ox Peninsula Grill at The Lake Almanor Country Club\, 951 Clifford Drive\, Lake Almanor\, California\, 96137
ATTACH;FMTTYPE=image/jpeg:https://lakealmanorcountryclub.com/wp-content/uploads/sites/2434/2026/04/Back-to-the-Lake-Bash-Event.jpg
END:VEVENT
BEGIN:VEVENT
DTSTART;TZID=UTC:20260529T170000
DTEND;TZID=UTC:20260529T190000
DTSTAMP:20260422T223710
CREATED:20260422T185921Z
LAST-MODIFIED:20260422T185940Z
UID:3666-1780074000-1780081200@lakealmanorcountryclub.com
SUMMARY:Music on the Patio: Max Minardi
DESCRIPTION:🎶 Live Music by Max Minardi 📅 Friday\, May 29th ⏰ 5:00 PM – 7:00 PM 📍 LACC Clubhouse Patio  \n\n\n\nLake Almanor Country Club presents a Music on the Patio event\, featuring live music by Max Minardi.  \n\n\n\nEnjoy great food from the Blue Ox Grill and refreshing drinks from the Sugar Pine Lounge while enjoying live music on the patio.  \n\n\n\nReservations recommended\, please call: (530) 259-2026
URL:https://lakealmanorcountryclub.com/event/music-on-the-patio-max-minardi/
LOCATION:LACC Clubhouse\, 951 Clifford Drive\, Lake Almanor\, California\, 96137
ATTACH;FMTTYPE=image/jpeg:https://lakealmanorcountryclub.com/wp-content/uploads/sites/2434/2026/04/Max-Minardi-MOP-5.29.26.jpg
END:VEVENT
END:VCALENDAR